BEGIN:VCALENDAR
VERSION:2.0
PRODID:-//Griffith Easter Party - ECPv6.11.0.1//NONSGML v1.0//EN
CALSCALE:GREGORIAN
METHOD:PUBLISH
X-WR-CALNAME:Griffith Easter Party
X-ORIGINAL-URL:https://griffitheasterparty.com.au
X-WR-CALDESC:Events for Griffith Easter Party
REFRESH-INTERVAL;VALUE=DURATION:PT1H
X-Robots-Tag:noindex
X-PUBLISHED-TTL:PT1H
BEGIN:VTIMEZONE
TZID:Australia/Sydney
BEGIN:STANDARD
TZOFFSETFROM:+1100
TZOFFSETTO:+1000
TZNAME:AEST
DTSTART:20260404T160000
END:STANDARD
BEGIN:DAYLIGHT
TZOFFSETFROM:+1000
TZOFFSETTO:+1100
TZNAME:AEDT
DTSTART:20261003T160000
END:DAYLIGHT
END:VTIMEZONE
BEGIN:VEVENT
DTSTART;TZID=Australia/Sydney:20260402T160000
DTEND;TZID=Australia/Sydney:20260402T200000
DTSTAMP:20260420T192845
CREATED:20260331T050028Z
LAST-MODIFIED:20260331T050028Z
UID:10000113-1775145600-1775160000@griffitheasterparty.com.au
SUMMARY:VIA POLA POP UP CELLAR DOOR @ HARVEST HQ
DESCRIPTION:WINES INSPIRED BY TRADITION AND INNOVATION \nImmerse yourself in the splendor of Via Pola’s Italian varietal wines\, tailored to thrive under the unique sun-kissed skies of the Riverina. Come and enjoy free tastings of the Via Pola range. \nCAPTIVATING. BOLD. UNIQUE. \nVia Pola’s mission is to bring vibrant and exciting Italian varieties to life. Drawing from our Italian heritage\, and fusing passion and quality to create unforgettable and enjoyable wines. Unlock your senses with Via Pola Wines.
URL:https://griffitheasterparty.com.au/event/via-pola-pop-up-cellar-door-harvest-hq/
LOCATION:Harvest HQ\, 127 Banna Avenue\, Griffith\, NSW\, 2680\, Australia
ATTACH;FMTTYPE=image/jpeg:https://griffitheasterparty.com.au/wp-content/uploads/2026/03/Via_Pola_range_of_wines-scaled.jpg
END:VEVENT
BEGIN:VEVENT
DTSTART;TZID=Australia/Sydney:20260402T170000
DTEND;TZID=Australia/Sydney:20260402T190000
DTSTAMP:20260420T192845
CREATED:20260221T224047Z
LAST-MODIFIED:20260221T224047Z
UID:10000111-1775149200-1775156400@griffitheasterparty.com.au
SUMMARY:VINTAGE 2025: THE MAGAZINE LAUNCH
DESCRIPTION:Vintage 2025: The Magazine Launch\nOpen Studio at ROR Space\nFree entry — no tickets required \nJoin us for the launch of the Vintage 2025 magazine\, a curated record of the runway\, the winemakers\, and the creative collaboration that brought Fashion Comes to Yenda to life.\nThis publication brings together editorial imagery\, event documentation\, and reflections from key collaborators\, forming a considered archive of the project and the moment it represented for our region.\nAt the event\, the magazine will be available to purchase for $40\, and select collection pieces by Nehma Vitols and Kirsty-lee will be on display to touch\, feel\, and be measured for. \nWine will be served. \nThursday 2 April | 5–7pm Saturday 4 April | 9am–1pm ROR Space\nAn moment to gather\, reflect\, and hold the moment in print.
URL:https://griffitheasterparty.com.au/event/vintage-2025-the-magazine-launch/
LOCATION:ROR Space\, 78 -80 Yambil Street\, Griffith\, NSW\, 2680\, Australia
ATTACH;FMTTYPE=image/png:https://griffitheasterparty.com.au/wp-content/uploads/2026/02/mag-lauch-poster-visit-griffith-e1771713626753.png
END:VEVENT
BEGIN:VEVENT
DTSTART;TZID=Australia/Sydney:20260402T173000
DTEND;TZID=Australia/Sydney:20260402T200000
DTSTAMP:20260420T192845
CREATED:20260129T040004Z
LAST-MODIFIED:20260318T022627Z
UID:10000104-1775151000-1775160000@griffitheasterparty.com.au
SUMMARY:SEAFOOD FRENZY RAFFLE
DESCRIPTION:Seafood Frenzy at the Leagues \nEaster Thursday\, 2nd April at both Northside & Southside \nNorthside (30 small + 6 x Large Seafood Boxes from Rossies Foodworks) \nSouthside (40 small + 6 x Large Seafood Boxes from Rossies Foodworks)
URL:https://griffitheasterparty.com.au/event/seafood-frenzy-at-the-leagues/
LOCATION:Northside Griffith Leagues Club\, 255 Wakaden St\, Griffith\, NSW\, 2680\, Australia
ATTACH;FMTTYPE=image/jpeg:https://griffitheasterparty.com.au/wp-content/uploads/2026/01/Easter-at-the-Leagues-Carousel-Slide-3-e1773800775599.jpg
END:VEVENT
BEGIN:VEVENT
DTSTART;TZID=Australia/Sydney:20260402T190000
DTEND;TZID=Australia/Sydney:20260402T210000
DTSTAMP:20260420T192845
CREATED:20260127T230236Z
LAST-MODIFIED:20260205T210850Z
UID:10000095-1775156400-1775163600@griffitheasterparty.com.au
SUMMARY:$15\,000 - CASH\, HAMPERS & PRAWNS RAFFLE
DESCRIPTION:Win a share of $15\,000 worth of Cash\, Hampers & Prawns this Easter! \nDrawn Thursday 2nd April 2026\, 7pm \nBuy Tickets online at https://coroclub.com.au/ or purchase inhouse \nMore information and T&C’s available at our website
URL:https://griffitheasterparty.com.au/event/15000-cash-hampers-prawns-raffle/
LOCATION:Coro Club\, 20-26 Harward Road\, Griffith\, NSW\, 2680\, Australia
ATTACH;FMTTYPE=image/jpeg:https://griffitheasterparty.com.au/wp-content/uploads/2026/01/Coro-Easter-2025-Social-e1769554941152.jpg
END:VEVENT
END:VCALENDAR