BEGIN:VCALENDAR
VERSION:2.0
PRODID:-//Griffith Easter Party - ECPv6.11.0.1//NONSGML v1.0//EN
CALSCALE:GREGORIAN
METHOD:PUBLISH
X-ORIGINAL-URL:https://griffitheasterparty.com.au
X-WR-CALDESC:Events for Griffith Easter Party
REFRESH-INTERVAL;VALUE=DURATION:PT1H
X-Robots-Tag:noindex
X-PUBLISHED-TTL:PT1H
BEGIN:VTIMEZONE
TZID:Australia/Sydney
BEGIN:STANDARD
TZOFFSETFROM:+1100
TZOFFSETTO:+1000
TZNAME:AEST
DTSTART:20260404T160000
END:STANDARD
BEGIN:DAYLIGHT
TZOFFSETFROM:+1000
TZOFFSETTO:+1100
TZNAME:AEDT
DTSTART:20261003T160000
END:DAYLIGHT
END:VTIMEZONE
BEGIN:VEVENT
DTSTART;TZID=Australia/Sydney:20260404T083000
DTEND;TZID=Australia/Sydney:20260404T113000
DTSTAMP:20260420T181752
CREATED:20250423T022109Z
LAST-MODIFIED:20260123T014009Z
UID:10000089-1775291400-1775302200@griffitheasterparty.com.au
SUMMARY:EASTER FUN FOR KIDS
DESCRIPTION:Spend Easter Saturday morning in Memorial Park and enjoy entertainment\, children’s activities & more. \nTip – bring a picnic rug and enjoy Easter Saturday morning in the park! \nAnd don’t forget to wander Banna Avenue during the Easter Sidewalk Sale  \nCoordinated by the Griffith Tourism Team.
URL:https://griffitheasterparty.com.au/event/easter-fun-for-kids/
LOCATION:Memorial Park\, Banna Avenue\, Griffith\, NSW\, 2680\, Australia
ATTACH;FMTTYPE=image/jpeg:https://griffitheasterparty.com.au/wp-content/uploads/2025/01/Griffith-Easter-Party-2024-Blood-Sweat-Beers-Ginette-Guidloin-26-scaled.jpg
END:VEVENT
BEGIN:VEVENT
DTSTART;TZID=Australia/Sydney:20260404T090000
DTEND;TZID=Australia/Sydney:20260404T130000
DTSTAMP:20260420T181752
CREATED:20260221T224427Z
LAST-MODIFIED:20260221T224427Z
UID:10000112-1775293200-1775307600@griffitheasterparty.com.au
SUMMARY:VINTAGE 2025: THE MAGAZINE LAUNCH
DESCRIPTION:Vintage 2025: The Magazine Launch\nOpen Studio at ROR Space\nFree entry — no tickets required \nJoin us for the launch of the Vintage 2025 magazine\, a curated record of the runway\, the winemakers\, and the creative collaboration that brought Fashion Comes to Yenda to life.\nThis publication brings together editorial imagery\, event documentation\, and reflections from key collaborators\, forming a considered archive of the project and the moment it represented for our region.\nAt the event\, the magazine will be available to purchase for $40\, and select collection pieces by Nehma Vitols and Kirsty-lee will be on display to touch\, feel\, and be measured for. \nWine will be served. \nThursday 2 April | 5–7pm Saturday 4 April | 9am–1pm ROR Space\nAn moment to gather\, reflect\, and hold the moment in print.
URL:https://griffitheasterparty.com.au/event/vintage-2025-the-magazine-launch-2/
LOCATION:ROR Space\, 78 -80 Yambil Street\, Griffith\, NSW\, 2680\, Australia
ATTACH;FMTTYPE=image/png:https://griffitheasterparty.com.au/wp-content/uploads/2026/02/mag-lauch-poster-visit-griffith-e1771713626753.png
END:VEVENT
BEGIN:VEVENT
DTSTART;TZID=Australia/Sydney:20260404T090000
DTEND;TZID=Australia/Sydney:20260404T140000
DTSTAMP:20260420T181752
CREATED:20250423T021751Z
LAST-MODIFIED:20250423T021751Z
UID:10000088-1775293200-1775311200@griffitheasterparty.com.au
SUMMARY:BANNA AVENUE SIDEWALK SALE
DESCRIPTION:Join in the Sidewalk Sale and shop ‘til you drop! Wander Banna Avenue and pick up a bargain at the local retail stalls on the sidewalk.
URL:https://griffitheasterparty.com.au/event/banna-avenue-sidewalk-sale/
LOCATION:Banna Avenue\, Banna Avenue\, Griffith\, NSW\, 2680\, Australia
ATTACH;FMTTYPE=image/jpeg:https://griffitheasterparty.com.au/wp-content/uploads/2024/01/Sidewalk-Sale-2021-81.jpg
END:VEVENT
BEGIN:VEVENT
DTSTART;TZID=Australia/Sydney:20260404T120000
DTEND;TZID=Australia/Sydney:20260404T160000
DTSTAMP:20260420T181752
CREATED:20260221T215240Z
LAST-MODIFIED:20260311T042358Z
UID:10000110-1775304000-1775318400@griffitheasterparty.com.au
SUMMARY:WINE WAVE
DESCRIPTION:Wine Wave is back at De Bortoli Wines\, and this year it is going to be BIGGER and BETTER! \nWith Music and Wine on Easter Saturday 4th April \nWe will have: \n– Food trucks throughout the afternoon\n– Cocktails & Wine\n– DJ – Freddie bringing the vibes from 12-4 pm at our Cellar Door \nPre-order a delicious antipasto box from So & So when you book your ticket. \nBus Tickets are on offer this year!\nCatch the bus at the visitors centre in town and a return ride back! \nBookings are essential – Head to the link in our bio to book your ticket now! \nBOOK HERE!\n 
URL:https://griffitheasterparty.com.au/event/wine-wave/
LOCATION:De Bortoli Wines\, De Bortoli Rd\, Bilbul\, NSW\, 2680\, Australia
ATTACH;FMTTYPE=image/png:https://griffitheasterparty.com.au/wp-content/uploads/2026/02/wine-wave-poster.png
END:VEVENT
BEGIN:VEVENT
DTSTART;TZID=Australia/Sydney:20260404T130000
DTEND;TZID=Australia/Sydney:20260404T170000
DTSTAMP:20260420T181752
CREATED:20260115T035511Z
LAST-MODIFIED:20260330T040345Z
UID:10000092-1775307600-1775322000@griffitheasterparty.com.au
SUMMARY:SOLD OUT!! EASTER SATURDAY AT YARRAN - LIVE IN THE VINES
DESCRIPTION:This event is now SOLD OUT! \n\nWe are doing something different this year! Enjoy a late start to your Easter Saturday - tunes from 1pm until 5pm.\n\nPizzas\, picnic boxes\, local beer\, gin + tonics - the best way to spend an Easter Saturday with family and friends on the Yarran lawns.\n\nBYO chairs or picnic rugs are welcomed and encouraged to ensure a relaxed afternoon is had by all. This is an outdoor event. We do not reserve spots on the lawn\, first in best dressed! \n\nBooking Includes: \n\nYour entry ticket! Please include all group members\, including those under 18 (using free child ticket). \n\nOptional Extras: \n\n- Picnic Boxes\n\n- Neapolitan style pizzas\n\nFOOD PRE-ORDERING IS STRONGLY SUGGESTED AT TIME OF TICKET PURCHASE. IT WILL SELL OUT ON THE DAY. \n\nWe kindly ask that no BYO food or alcohol are brought onto winery grounds due to licencing regulations. Please note our kitchen closes on the day at 4pm. \n\nFor groups of more than 30 guests\, please contact our team prior to booking. \nBYO picnic rugs are welcome\, beanbags and barrel seating available subject to availability on your arrival.\n\nBOOK HERE!!
URL:https://griffitheasterparty.com.au/event/easter-saturday-at-yarran-live-in-the-vines/
LOCATION:Yarran Wines\, 178 Myall Park Rd\, Yenda\, NSW\, 2680\, Australia
ATTACH;FMTTYPE=image/png:https://griffitheasterparty.com.au/wp-content/uploads/2026/01/Easter-Saturday-2026.png
ORGANIZER;CN="Yarran Wines":MAILTO:info@yarranwines.com.au
END:VEVENT
BEGIN:VEVENT
DTSTART;TZID=Australia/Sydney:20260404T150000
DTEND;TZID=Australia/Sydney:20260404T180000
DTSTAMP:20260420T181752
CREATED:20260203T001630Z
LAST-MODIFIED:20260331T041556Z
UID:10000109-1775314800-1775325600@griffitheasterparty.com.au
SUMMARY:SOLD OUT!! AFTERNOON APERITIVO
DESCRIPTION:This event is now SOLD OUT!! \nLooking for somewhere to relax with friends this Easter Saturday? Come and enjoy a stylish afternoon in our premium venue situated in the heart of Griffith. Your booking will guarantee you a spot inside\, and start you off with a delicious drink and food package. \nBOOK HERE! 
URL:https://griffitheasterparty.com.au/event/afternoon-aperitivo/
LOCATION:Harvest HQ\, 127 Banna Avenue\, Griffith\, NSW\, 2680\, Australia
ATTACH;FMTTYPE=image/jpeg:https://griffitheasterparty.com.au/wp-content/uploads/2026/02/HHQ-1.jpg
END:VEVENT
BEGIN:VEVENT
DTSTART;TZID=Australia/Sydney:20260404T153000
DTEND;TZID=Australia/Sydney:20260404T233000
DTSTAMP:20260420T181752
CREATED:20260129T040239Z
LAST-MODIFIED:20260318T022227Z
UID:10000106-1775316600-1775345400@griffitheasterparty.com.au
SUMMARY:LIVE ENTERTAINMENT AT THE LEAGUES
DESCRIPTION:Easter Saturday at the Griffith Leagues  \nLive DJ’s from 3.30pm till late (Ryan Kirk\, HVY\, Cirillo\, Brittany X Haylee\, Jack Moon\, Zac Ross) \nFood Truck & Drink Specials.
URL:https://griffitheasterparty.com.au/event/easter-saturday-at-the-leagues/
LOCATION:Griffith Southside Leagues Club\, 2 Bridge Road\, Griffith\, NSW\, 2680\, Australia
ATTACH;FMTTYPE=image/jpeg:https://griffitheasterparty.com.au/wp-content/uploads/2026/01/Easter-Saturday-on-the-Terrace-2026-Carousel-1-e1773800517972.jpg
END:VEVENT
BEGIN:VEVENT
DTSTART;TZID=Australia/Sydney:20260404T160000
DTEND;TZID=Australia/Sydney:20260404T200000
DTSTAMP:20260420T181752
CREATED:20260128T025442Z
LAST-MODIFIED:20260330T233440Z
UID:10000099-1775318400-1775332800@griffitheasterparty.com.au
SUMMARY:TWILIGHT EASTER CARNIVAL & EGG DROP
DESCRIPTION:Celebrate Easter as the sun sets with an evening designed for families\, friends and festive fun. Our Twilight Easter Event brings together relaxed entertainment\, great food and a touch of magic as the day turns to night. \nChildren can enjoy a dedicated program of Easter-themed entertainment\, activities and surprises\, while parents unwind with food and refreshments. As dusk falls\, settle in on the lawns for a family-friendly Easter movie on the big screen — the perfect way to slow the pace and enjoy the moment together. \nThe highlight of the night arrives from above: our iconic Easter Egg Drop\, as hundreds of chocolate eggs rain down from a helicopter in a spectacle that delights children and adults alike. \nA relaxed\, joyful evening filled with colour\, laughter and Easter Fun — this is a community celebration not to be missed. \nBOOK HERE!
URL:https://griffitheasterparty.com.au/event/twilight-easter-carnival-eaqster-egg-drop/
LOCATION:Whitton Malt House\, 783A Whitton Darlington Point Rd\, Whitton\, NSW\, 2705\, Australia
ATTACH;FMTTYPE=image/jpeg:https://griffitheasterparty.com.au/wp-content/uploads/2026/01/Happy-Easter-Background-Graphics-66695133-1-scaled-1-e1769568839143.jpg
END:VEVENT
BEGIN:VEVENT
DTSTART;TZID=Australia/Sydney:20260404T200000
DTEND;TZID=Australia/Sydney:20260404T233000
DTSTAMP:20260420T181752
CREATED:20260128T025620Z
LAST-MODIFIED:20260128T025620Z
UID:10000100-1775332800-1775345400@griffitheasterparty.com.au
SUMMARY:EXIES LIVE MUSIC
DESCRIPTION:🎶 Live Entertainment at the Exies \n📅 Every Saturday Night \n⏰From 8pm \n📍 Griffith Exies Club \nApril Line Up 🎸 \n4th April – Sainty Road \n  \n 
URL:https://griffitheasterparty.com.au/event/exies-live-music/
LOCATION:Griffith Exies Club\, 6-12 Jondaryan Avenue\, Griffith\, NSW\, 2680\, Australia
ATTACH;FMTTYPE=image/jpeg:https://griffitheasterparty.com.au/wp-content/uploads/2026/01/COVER3.jpg
ORGANIZER;CN="Exies":MAILTO:exies@exies.com.au
END:VEVENT
END:VCALENDAR