BEGIN:VCALENDAR
VERSION:2.0
PRODID:-//Griffith Easter Party - ECPv6.11.0.1//NONSGML v1.0//EN
CALSCALE:GREGORIAN
METHOD:PUBLISH
X-ORIGINAL-URL:https://griffitheasterparty.com.au
X-WR-CALDESC:Events for Griffith Easter Party
REFRESH-INTERVAL;VALUE=DURATION:PT1H
X-Robots-Tag:noindex
X-PUBLISHED-TTL:PT1H
BEGIN:VTIMEZONE
TZID:Australia/Sydney
BEGIN:STANDARD
TZOFFSETFROM:+1100
TZOFFSETTO:+1000
TZNAME:AEST
DTSTART:20260404T160000
END:STANDARD
BEGIN:DAYLIGHT
TZOFFSETFROM:+1000
TZOFFSETTO:+1100
TZNAME:AEDT
DTSTART:20261003T160000
END:DAYLIGHT
END:VTIMEZONE
BEGIN:VEVENT
DTSTART;TZID=Australia/Sydney:20260401T190000
DTEND;TZID=Australia/Sydney:20260401T203000
DTSTAMP:20260420T213027
CREATED:20260130T005853Z
LAST-MODIFIED:20260130T005853Z
UID:10000108-1775070000-1775075400@griffitheasterparty.com.au
SUMMARY:EXIES MAJOR EASTER RAFFLE
DESCRIPTION:Exies Easter Raffle – Win Your Share of $5\,000! \nHop into the Exies for an egg-citing Easter Raffle with a massive $5\,000 in prizes up for grabs! \nBring your friends and family for a fun-filled evening at the Exies. Enjoy great company\, delicious food and the thrill of winning big this Easter! \nTickets on sale 26th March from the Main Bar\, Gaming Bar or Front Reception.
URL:https://griffitheasterparty.com.au/event/exies-major-easter-raffle/
LOCATION:Griffith Exies Club\, 6-12 Jondaryan Avenue\, Griffith\, NSW\, 2680\, Australia
ATTACH;FMTTYPE=image/jpeg:https://griffitheasterparty.com.au/wp-content/uploads/2026/01/EASTER-1.jpg
ORGANIZER;CN="Exies":MAILTO:exies@exies.com.au
END:VEVENT
BEGIN:VEVENT
DTSTART;TZID=Australia/Sydney:20260327T050000
DTEND;TZID=Australia/Sydney:20260327T200000
DTSTAMP:20260420T213027
CREATED:20260129T035829Z
LAST-MODIFIED:20260318T022754Z
UID:10000103-1774587600-1774641600@griffitheasterparty.com.au
SUMMARY:EGGCELLENT EASTER EGG RAFFLE
DESCRIPTION:Eggcellent Easter Egg Raffle \n27th March Southside – $5k worth of Easter Egg Hampers
URL:https://griffitheasterparty.com.au/event/eggcellent-easter-egg-raffle-2/
LOCATION:Griffith Southside Leagues Club\, 2 Bridge Road\, Griffith\, NSW\, 2680\, Australia
ATTACH;FMTTYPE=image/jpeg:https://griffitheasterparty.com.au/wp-content/uploads/2026/01/Easter-at-the-Leagues-Carousel-Slide-2-e1773800850685.jpg
END:VEVENT
BEGIN:VEVENT
DTSTART;TZID=Australia/Sydney:20260326T050000
DTEND;TZID=Australia/Sydney:20260326T200000
DTSTAMP:20260420T213027
CREATED:20260129T035737Z
LAST-MODIFIED:20260318T024836Z
UID:10000102-1774501200-1774555200@griffitheasterparty.com.au
SUMMARY:EGGCELLENT EASTER EGG RAFFLE
DESCRIPTION:Eggcellent Easter Egg Raffle \n26th March Northside – $3k worth of Easter Egg Hampers
URL:https://griffitheasterparty.com.au/event/eggcellent-easter-egg-raffle/
LOCATION:Northside Griffith Leagues Club\, 255 Wakaden St\, Griffith\, NSW\, 2680\, Australia
ATTACH;FMTTYPE=image/jpeg:https://griffitheasterparty.com.au/wp-content/uploads/2026/01/Easter-at-the-Leagues-Carousel-Slide-2-e1773800850685.jpg
END:VEVENT
BEGIN:VEVENT
DTSTART;TZID=Australia/Sydney:20260128T080000
DTEND;TZID=Australia/Sydney:20260128T170000
DTSTAMP:20260420T213027
CREATED:20260128T032657Z
LAST-MODIFIED:20260128T032657Z
UID:10000101-1769587200-1769619600@griffitheasterparty.com.au
SUMMARY:CELEBRAZIONE 2026 - OUR EASTER DE BORTOLI TRADITION!
DESCRIPTION:So\, plan your Easter and book now! \nEaster Sunday is a fun-filled day for the entire family! Mum\, Dad\, Kids and Grandparents can come together for an easy & fun Easter. \nThere’s delicious food\, live music and lots of wine (of course!) and other beverages including beer\, wine spritzers & soft drinks. \n For the kids there’s a Jumping Castle\, games (there is a HUGE area to run around) & craft activities. \nBOOK HERE!
URL:https://griffitheasterparty.com.au/event/celebrazione-2026-our-easter-de-bortoli-tradition/
LOCATION:De Bortoli Wines\, De Bortoli Rd\, Bilbul\, NSW\, 2680\, Australia
ATTACH;FMTTYPE=image/jpeg:https://griffitheasterparty.com.au/wp-content/uploads/2026/01/CD71898_Celebrazione-2026_POS_Social-Tile_v2.jpg
END:VEVENT
END:VCALENDAR