BEGIN:VCALENDAR
VERSION:2.0
PRODID:-//Griffith Easter Party - ECPv6.11.0.1//NONSGML v1.0//EN
CALSCALE:GREGORIAN
METHOD:PUBLISH
X-ORIGINAL-URL:https://griffitheasterparty.com.au
X-WR-CALDESC:Events for Griffith Easter Party
REFRESH-INTERVAL;VALUE=DURATION:PT1H
X-Robots-Tag:noindex
X-PUBLISHED-TTL:PT1H
BEGIN:VTIMEZONE
TZID:Australia/Sydney
BEGIN:STANDARD
TZOFFSETFROM:+1100
TZOFFSETTO:+1000
TZNAME:AEST
DTSTART:20260404T160000
END:STANDARD
BEGIN:DAYLIGHT
TZOFFSETFROM:+1000
TZOFFSETTO:+1100
TZNAME:AEDT
DTSTART:20261003T160000
END:DAYLIGHT
END:VTIMEZONE
BEGIN:VEVENT
DTSTART;TZID=Australia/Sydney:20260405T080000
DTEND;TZID=Australia/Sydney:20260405T130000
DTSTAMP:20260420T212704
CREATED:20260123T020159Z
LAST-MODIFIED:20260302T042056Z
UID:10000094-1775376000-1775394000@griffitheasterparty.com.au
SUMMARY:EASTER SUNDAY PRODUCERS MARKET
DESCRIPTION:$2 entry \nSpend the morning at Piccolo Family Farm exploring stalls at our Easter Sunday Producers Market. Showcasing local artisans\, makers\, and produce. There will be food and coffee\, kids activities\, wine tastings and bar by Caro Piccolo\, live music\, helicopter flights by Riverina Helicopters\, and a “Pesca di Beneficenza” raffle featuring great prizes generously donated by local businesses. \nPiccolo Family Farm will also be supporting local charities through this event. \nParking is available on site; please do not park on the road. \nMALLINSON ROAD ROADWORKS: \nAccess to Mallinson Road via Lakes Road: \n– Brayne Road (past Calabria Wines) ➡️ Lakes Road ➡️ Mallinson Road
URL:https://griffitheasterparty.com.au/event/easter-sunday-producers-market/
LOCATION:Piccolo Family Farm\, 1814 Mallinson Road\, Lake Wyangan\, NSW\, 2680\, Australia
ATTACH;FMTTYPE=image/jpeg:https://griffitheasterparty.com.au/wp-content/uploads/2026/01/pexels-denislav-581353-27393960-scaled-e1769133678971.jpg
END:VEVENT
BEGIN:VEVENT
DTSTART;TZID=Australia/Sydney:20260405T100000
DTEND;TZID=Australia/Sydney:20260405T160000
DTSTAMP:20260420T212704
CREATED:20260123T015316Z
LAST-MODIFIED:20260224T051857Z
UID:10000093-1775383200-1775404800@griffitheasterparty.com.au
SUMMARY:THE LONG POUR: EASTER EDITION
DESCRIPTION:The Long Pour is back this Easter Sunday at Berton\, with a few thoughtful extras just for the occasion. Settle in for a relaxed afternoon of wine by the bottle\, good food\, live music and a slower pace. This Easter edition has been designed to be genuinely family-friendly\, with space for kids to play\, adults to unwind\, and everyone to stay a little longer. Pour\, stay a while\, and make a day of it. Arrive anytime\, stay as long as you like. \nWhat to Expect: \nWine - Enjoy Berton wines available by the bottle throughout the day. \nJust relaxed\, easy drinking at your own pace. \nLive Music - Live music by Max Jones across the day\, setting the tone for a laid-back afternoon. \nFood - A casual BBQ run by the wonderful Starlight Foundation volunteers\, plus cupcakes for the kids. Food will be available to purchase on the day and all proceeds will go to the Starlight Foundation. \nFor the Kids - Wonderdust Play will be onsite with fairies running relaxed Easter-style activities\, designed so parents can actually switch off\, enjoy a glass of wine\, and know the kids are happily occupied. \nTickets – Tickets are $10 per person and include a welcome pour. We recommend booking ahead to secure your spot. \nBOOK HERE!
URL:https://griffitheasterparty.com.au/event/the-long-pour-easter-edition/
LOCATION:Berton Vineyards\, 55 Mirrool Avenue\, Yenda\, NSW\, 2681\, Australia
ATTACH;FMTTYPE=image/png:https://griffitheasterparty.com.au/wp-content/uploads/2026/01/the-long-pour-easter-visit-griffith-1-e1769133159568.png
ORGANIZER;CN="Berton Vineyards":MAILTO:wine@bertonvineyards.com.au
END:VEVENT
BEGIN:VEVENT
DTSTART;TZID=Australia/Sydney:20260405T110000
DTEND;TZID=Australia/Sydney:20260405T160000
DTSTAMP:20260420T212704
CREATED:20260129T223540Z
LAST-MODIFIED:20260203T002047Z
UID:10000107-1775386800-1775404800@griffitheasterparty.com.au
SUMMARY:CELEBRAZIONE 2026 - OUR EASTER DE BORTOLI TRADITION
DESCRIPTION:So\, plan your Easter and book now! \nEaster Sunday is a fun-filled day for the entire family! Mum\, Dad\, Kids and Grandparents can come together for an easy & fun Easter. \nThere’s delicious food\, live music and lots of wine (of course!) and other beverages including beer\, wine spritzers & soft drinks. \n For the kids there’s a Jumping Castle\, games (there is a HUGE area to run around) & craft activities. \nAdults: $25pp \nChild: FREE \nBOOK HERE!
URL:https://griffitheasterparty.com.au/event/celebrazione-2026-our-easter-de-bortoli-tradition-2/
LOCATION:De Bortoli Wines\, De Bortoli Rd\, Bilbul\, NSW\, 2680\, Australia
ATTACH;FMTTYPE=image/jpeg:https://griffitheasterparty.com.au/wp-content/uploads/2026/01/CD71898_Celebrazione-2026_POS_Social-Tile_v2-1.jpg
END:VEVENT
END:VCALENDAR