BEGIN:VCALENDAR
VERSION:2.0
PRODID:-//Griffith Easter Party - ECPv6.11.0.1//NONSGML v1.0//EN
CALSCALE:GREGORIAN
METHOD:PUBLISH
X-WR-CALNAME:Griffith Easter Party
X-ORIGINAL-URL:https://griffitheasterparty.com.au
X-WR-CALDESC:Events for Griffith Easter Party
REFRESH-INTERVAL;VALUE=DURATION:PT1H
X-Robots-Tag:noindex
X-PUBLISHED-TTL:PT1H
BEGIN:VTIMEZONE
TZID:Australia/Sydney
BEGIN:STANDARD
TZOFFSETFROM:+1100
TZOFFSETTO:+1000
TZNAME:AEST
DTSTART:20260404T160000
END:STANDARD
BEGIN:DAYLIGHT
TZOFFSETFROM:+1000
TZOFFSETTO:+1100
TZNAME:AEDT
DTSTART:20261003T160000
END:DAYLIGHT
END:VTIMEZONE
BEGIN:VEVENT
DTSTART;TZID=Australia/Sydney:20260402T173000
DTEND;TZID=Australia/Sydney:20260402T200000
DTSTAMP:20260420T223821
CREATED:20260129T040004Z
LAST-MODIFIED:20260318T022627Z
UID:10000104-1775151000-1775160000@griffitheasterparty.com.au
SUMMARY:SEAFOOD FRENZY RAFFLE
DESCRIPTION:Seafood Frenzy at the Leagues \nEaster Thursday\, 2nd April at both Northside & Southside \nNorthside (30 small + 6 x Large Seafood Boxes from Rossies Foodworks) \nSouthside (40 small + 6 x Large Seafood Boxes from Rossies Foodworks)
URL:https://griffitheasterparty.com.au/event/seafood-frenzy-at-the-leagues/
LOCATION:Northside Griffith Leagues Club\, 255 Wakaden St\, Griffith\, NSW\, 2680\, Australia
ATTACH;FMTTYPE=image/jpeg:https://griffitheasterparty.com.au/wp-content/uploads/2026/01/Easter-at-the-Leagues-Carousel-Slide-3-e1773800775599.jpg
END:VEVENT
BEGIN:VEVENT
DTSTART;TZID=Australia/Sydney:20260326T050000
DTEND;TZID=Australia/Sydney:20260326T200000
DTSTAMP:20260420T223821
CREATED:20260129T035737Z
LAST-MODIFIED:20260318T024836Z
UID:10000102-1774501200-1774555200@griffitheasterparty.com.au
SUMMARY:EGGCELLENT EASTER EGG RAFFLE
DESCRIPTION:Eggcellent Easter Egg Raffle \n26th March Northside – $3k worth of Easter Egg Hampers
URL:https://griffitheasterparty.com.au/event/eggcellent-easter-egg-raffle/
LOCATION:Northside Griffith Leagues Club\, 255 Wakaden St\, Griffith\, NSW\, 2680\, Australia
ATTACH;FMTTYPE=image/jpeg:https://griffitheasterparty.com.au/wp-content/uploads/2026/01/Easter-at-the-Leagues-Carousel-Slide-2-e1773800850685.jpg
END:VEVENT
END:VCALENDAR